BEGIN:VCALENDAR
VERSION:2.0
PRODID:-//UTC Ligist//Mannschaftsspiel//DE
CALSCALE:GREGORIAN
BEGIN:VEVENT
UID:sp_69c900c206dd7@utc-ligist.at
DTSTAMP:20260423T122832Z
DTSTART:20260705T090000
DTEND:20260705T130000
SUMMARY:🎾 herren-3-klasse: Tennisclub Södingberg 1 vs. UTC-Ligist 1
LOCATION:Gastgeber
DESCRIPTION:Mannschaft: herren-3-klasse\nTyp: Auswärtsspiel\n\nAktuelle Zusagen:\n🟡 Alex Ortner, Günther Unterweger\n🟠 Glarcher Hermann\n
END:VEVENT
END:VCALENDAR
