BEGIN:VCALENDAR
VERSION:2.0
PRODID:-//UTC Ligist//Mannschaftsspiel//DE
CALSCALE:GREGORIAN
BEGIN:VEVENT
UID:sp_69c900c206dd6@utc-ligist.at
DTSTAMP:20260423T123107Z
DTSTART:20260621T090000
DTEND:20260621T130000
SUMMARY:🎾 herren-3-klasse: Voitsberger Tennisclub 3 vs. UTC-Ligist 1
LOCATION:Gastgeber
DESCRIPTION:Mannschaft: herren-3-klasse\nTyp: Auswärtsspiel\n\nAktuelle Zusagen:\n🟡 Günther Unterweger\n🟠 Alex Ortner, Günter Moser\n
END:VEVENT
END:VCALENDAR
