BEGIN:VCALENDAR
VERSION:2.0
PRODID:-//UTC Ligist//Mannschaftsspiel//DE
CALSCALE:GREGORIAN
BEGIN:VEVENT
UID:sp_69c900c206dd5@utc-ligist.at
DTSTAMP:20260423T122940Z
DTSTART:20260614T090000
DTEND:20260614T130000
SUMMARY:🎾 herren-3-klasse: UTC-Ligist 1 vs. SV Rohrbach-Steinberg 1
LOCATION:Tennisanlage UTC Ligist\, 8563 Ligist
DESCRIPTION:Mannschaft: herren-3-klasse\nTyp: Heimspiel\n\nAktuelle Zusagen:\n🟡 Günther Unterweger\n🟠 Alex Ortner, Günter Moser\n
END:VEVENT
END:VCALENDAR
