BEGIN:VCALENDAR
VERSION:2.0
PRODID:-//UTC Ligist//Mannschaftsspiel//DE
CALSCALE:GREGORIAN
BEGIN:VEVENT
UID:sp_69c900c206dd4@utc-ligist.at
DTSTAMP:20260423T122610Z
DTSTART:20260531T090000
DTEND:20260531T130000
SUMMARY:🎾 herren-3-klasse: UTC-Ligist 1 vs. TC Köflach 2
LOCATION:Tennisanlage UTC Ligist\, 8563 Ligist
DESCRIPTION:Mannschaft: herren-3-klasse\nTyp: Heimspiel\n\nAktuelle Zusagen:\n🟡 Günter Moser, Mario Eberhart\n🟠 Alex Ortner\n
END:VEVENT
END:VCALENDAR
