BEGIN:VCALENDAR
VERSION:2.0
PRODID:-//UTC Ligist//Mannschaftsspiel//DE
CALSCALE:GREGORIAN
BEGIN:VEVENT
UID:sp_69c900c206dd3@utc-ligist.at
DTSTAMP:20260423T122709Z
DTSTART:20260523T090000
DTEND:20260523T130000
SUMMARY:🎾 herren-3-klasse: FTC Kainach/Gallmannsegg 2 vs. UTC-Ligist 1
LOCATION:Gastgeber
DESCRIPTION:Mannschaft: herren-3-klasse\nTyp: Auswärtsspiel\n\nAktuelle Zusagen:\n🟡 Günter Moser, Mario Eberhart\n
END:VEVENT
END:VCALENDAR
