BEGIN:VCALENDAR
VERSION:2.0
PRODID:-//UTC Ligist//Mannschaftsspiel//DE
CALSCALE:GREGORIAN
BEGIN:VEVENT
UID:sp_69c900c206dd2@utc-ligist.at
DTSTAMP:20260423T122338Z
DTSTART:20260712T090000
DTEND:20260712T130000
SUMMARY:🎾 herren-3-klasse: UTC-Ligist 1 vs. RTC-Rosentaler Tennisclub 1
LOCATION:Tennisanlage UTC Ligist\, 8563 Ligist
DESCRIPTION:Mannschaft: herren-3-klasse\nTyp: Heimspiel\n\nAktuelle Zusagen:\n🟠 Günter Moser\n
END:VEVENT
END:VCALENDAR
