BEGIN:VCALENDAR
VERSION:2.0
PRODID:-//UTC Ligist//Mannschaftsspiel//DE
CALSCALE:GREGORIAN
BEGIN:VEVENT
UID:sp_69c900c206dd0@utc-ligist.at
DTSTAMP:20260423T122934Z
DTSTART:20260911T150000
DTEND:20260911T190000
SUMMARY:🎾 herren-35-1-klasse: UTC-Ligist 1 vs. HSV Graz Tennis Belgierkaserne 1
LOCATION:Tennisanlage UTC Ligist\, 8563 Ligist
DESCRIPTION:Mannschaft: herren-35-1-klasse\nTyp: Heimspiel\n\nAktuelle Zusagen:\n🟡 Günther Unterweger\n🟠 Glarcher Hermann, Mario Eberhart\n
END:VEVENT
END:VCALENDAR
