BEGIN:VCALENDAR
VERSION:2.0
PRODID:-//UTC Ligist//Mannschaftsspiel//DE
CALSCALE:GREGORIAN
BEGIN:VEVENT
UID:sp_69c900c206dcf@utc-ligist.at
DTSTAMP:20260423T122113Z
DTSTART:20260828T150000
DTEND:20260828T190000
SUMMARY:🎾 herren-35-1-klasse: TC Wundschuh 1 vs. UTC-Ligist 1
LOCATION:Gastgeber
DESCRIPTION:Mannschaft: herren-35-1-klasse\nTyp: Auswärtsspiel\n\nAktuelle Zusagen:\n🟡 Glarcher Hermann, Günter Moser, Günther Unterweger\n
END:VEVENT
END:VCALENDAR
