BEGIN:VCALENDAR
VERSION:2.0
PRODID:-//UTC Ligist//Mannschaftsspiel//DE
CALSCALE:GREGORIAN
BEGIN:VEVENT
UID:sp_69c900c206dce@utc-ligist.at
DTSTAMP:20260423T122317Z
DTSTART:20260821T150000
DTEND:20260821T190000
SUMMARY:🎾 herren-35-1-klasse: UTC-Ligist 1 vs. Union Wirtschaftskammer Graz 2
LOCATION:Tennisanlage UTC Ligist\, 8563 Ligist
DESCRIPTION:Mannschaft: herren-35-1-klasse\nTyp: Heimspiel\n\nAktuelle Zusagen:\n🟡 Glarcher Hermann, Günter Moser\n🟠 Mario Eberhart, Günther Unterweger\n
END:VEVENT
END:VCALENDAR
