BEGIN:VCALENDAR
VERSION:2.0
PRODID:-//UTC Ligist//Mannschaftsspiel//DE
CALSCALE:GREGORIAN
BEGIN:VEVENT
UID:sp_69c900c206dcb@utc-ligist.at
DTSTAMP:20260423T122349Z
DTSTART:20260731T150000
DTEND:20260731T190000
SUMMARY:🎾 herren-35-1-klasse: TC Graz Waltendorf 2 vs. UTC-Ligist 1
LOCATION:Gastgeber
DESCRIPTION:Mannschaft: herren-35-1-klasse\nTyp: Auswärtsspiel\n\nAktuelle Zusagen:\n🟡 Glarcher Hermann, Günter Moser\n
END:VEVENT
END:VCALENDAR
