BEGIN:VCALENDAR
VERSION:2.0
PRODID:-//UTC Ligist//Mannschaftsspiel//DE
CALSCALE:GREGORIAN
BEGIN:VEVENT
UID:sp_69c900c206dc9@utc-ligist.at
DTSTAMP:20260423T123026Z
DTSTART:20260703T150000
DTEND:20260703T190000
SUMMARY:🎾 herren-45-3-klasse: UTC-Ligist 1 vs. Voitsberger Tennisclub 2
LOCATION:Tennisanlage UTC Ligist\, 8563 Ligist
DESCRIPTION:Mannschaft: herren-45-3-klasse\nTyp: Heimspiel\n\n
END:VEVENT
END:VCALENDAR
