BEGIN:VCALENDAR
VERSION:2.0
PRODID:-//UTC Ligist//Mannschaftsspiel//DE
CALSCALE:GREGORIAN
BEGIN:VEVENT
UID:sp_69c900c206dc5@utc-ligist.at
DTSTAMP:20260423T122647Z
DTSTART:20260529T150000
DTEND:20260529T190000
SUMMARY:🎾 herren-45-3-klasse: Betriebssportverein AVL/E-STMK 1 vs. UTC-Ligist 1
LOCATION:Gastgeber
DESCRIPTION:Mannschaft: herren-45-3-klasse\nTyp: Auswärtsspiel\n\n
END:VEVENT
END:VCALENDAR
