BEGIN:VCALENDAR
VERSION:2.0
PRODID:-//UTC Ligist//Mannschaftsspiel//DE
CALSCALE:GREGORIAN
BEGIN:VEVENT
UID:sp_69c900c206dc2@utc-ligist.at
DTSTAMP:20260423T122118Z
DTSTART:20260621T150000
DTEND:20260621T190000
SUMMARY:🎾 damen-hobby-liga: TC Dobl-Zwaring 1 vs. UTC-Ligist 2
LOCATION:Gastgeber
DESCRIPTION:Mannschaft: damen-hobby-liga\nTyp: Auswärtsspiel\n\nAktuelle Zusagen:\n🟢 Nina Erregger\n🟡 Petra Schröttner, Karla Mauser, Martina\n
END:VEVENT
END:VCALENDAR
