BEGIN:VCALENDAR
VERSION:2.0
PRODID:-//UTC Ligist//Mannschaftsspiel//DE
CALSCALE:GREGORIAN
BEGIN:VEVENT
UID:sp_69c900c206dc0@utc-ligist.at
DTSTAMP:20260423T122447Z
DTSTART:20260531T150000
DTEND:20260531T190000
SUMMARY:🎾 damen-hobby-liga: UTC-Ligist 2 vs. TC Wundschuh 1
LOCATION:Tennisanlage UTC Ligist\, 8563 Ligist
DESCRIPTION:Mannschaft: damen-hobby-liga\nTyp: Heimspiel\n\nAktuelle Zusagen:\n🟢 Nina Erregger\n🟡 Karla Mauser\n
END:VEVENT
END:VCALENDAR
