BEGIN:VCALENDAR
VERSION:2.0
PRODID:-//UTC Ligist//Mannschaftsspiel//DE
CALSCALE:GREGORIAN
BEGIN:VEVENT
UID:sp_69c900c206dbf@utc-ligist.at
DTSTAMP:20260423T122113Z
DTSTART:20260522T150000
DTEND:20260522T190000
SUMMARY:🎾 damen-hobby-liga: TC Köflach 2 vs. UTC-Ligist 2
LOCATION:Gastgeber
DESCRIPTION:Mannschaft: damen-hobby-liga\nTyp: Auswärtsspiel\n\nAktuelle Zusagen:\n🟢 Martina\n🟡 Petra Schröttner\n🟠 Karla Mauser\n
END:VEVENT
END:VCALENDAR
