BEGIN:VCALENDAR
VERSION:2.0
PRODID:-//UTC Ligist//Mannschaftsspiel//DE
CALSCALE:GREGORIAN
BEGIN:VEVENT
UID:sp_69c900c206dbe@utc-ligist.at
DTSTAMP:20260423T122200Z
DTSTART:20260510T150000
DTEND:20260510T190000
SUMMARY:🎾 damen-hobby-liga: UTC-Ligist 2 vs. Freizeitclub Mooskirchen 1
LOCATION:Tennisanlage UTC Ligist\, 8563 Ligist
DESCRIPTION:Mannschaft: damen-hobby-liga\nTyp: Heimspiel\n\nAktuelle Zusagen:\n
END:VEVENT
END:VCALENDAR
