BEGIN:VCALENDAR
VERSION:2.0
PRODID:-//UTC Ligist//Mannschaftsspiel//DE
CALSCALE:GREGORIAN
BEGIN:VEVENT
UID:sp_69c900c206dbb@utc-ligist.at
DTSTAMP:20260423T122245Z
DTSTART:20260704T100000
DTEND:20260704T140000
SUMMARY:🎾 damen-1-klasse: Gössendorfer Tennis Team 1 vs. UTC-Ligist 1
LOCATION:Gastgeber
DESCRIPTION:Mannschaft: damen-1-klasse\nTyp: Auswärtsspiel\n\nAktuelle Zusagen:\n🟡 Petra Schröttner, Barbara Wundrak\n🟠 Anika Ruprechter\n
END:VEVENT
END:VCALENDAR
