BEGIN:VCALENDAR
VERSION:2.0
PRODID:-//UTC Ligist//Mannschaftsspiel//DE
CALSCALE:GREGORIAN
BEGIN:VEVENT
UID:sp_69c900c206dba@utc-ligist.at
DTSTAMP:20260423T122504Z
DTSTART:20260627T090000
DTEND:20260627T130000
SUMMARY:🎾 damen-1-klasse: UTC-Ligist 1 vs. Tennis Club Premstätten 1
LOCATION:Tennisanlage UTC Ligist\, 8563 Ligist
DESCRIPTION:Mannschaft: damen-1-klasse\nTyp: Heimspiel\n\nAktuelle Zusagen:\n🟡 Petra Schröttner, Anika Ruprechter\n🟠 Martina, Barbara Wundrak\n
END:VEVENT
END:VCALENDAR
