BEGIN:VCALENDAR
VERSION:2.0
PRODID:-//UTC Ligist//Mannschaftsspiel//DE
CALSCALE:GREGORIAN
BEGIN:VEVENT
UID:sp_69c900c206db9@utc-ligist.at
DTSTAMP:20260423T122908Z
DTSTART:20260620T130000
DTEND:20260620T170000
SUMMARY:🎾 damen-1-klasse: TC Judendorf-Straßengel 1 vs. UTC-Ligist 1
LOCATION:Gastgeber
DESCRIPTION:Mannschaft: damen-1-klasse\nTyp: Auswärtsspiel\n\nAktuelle Zusagen:\n🟡 Anika Ruprechter, Barbara Wundrak\n🟠 Martina\n
END:VEVENT
END:VCALENDAR
