BEGIN:VCALENDAR
VERSION:2.0
PRODID:-//UTC Ligist//Mannschaftsspiel//DE
CALSCALE:GREGORIAN
BEGIN:VEVENT
UID:sp_69c900c206db8@utc-ligist.at
DTSTAMP:20260423T122750Z
DTSTART:20260530T090000
DTEND:20260530T130000
SUMMARY:🎾 damen-1-klasse: UTC-Ligist 1 vs. Sportverein Raaba 1
LOCATION:Tennisanlage UTC Ligist\, 8563 Ligist
DESCRIPTION:Mannschaft: damen-1-klasse\nTyp: Heimspiel\n\nAktuelle Zusagen:\n🟢 Barbara Wundrak\n🟡 Anika Ruprechter\n🟠 Martina\n
END:VEVENT
END:VCALENDAR
