BEGIN:VCALENDAR
VERSION:2.0
PRODID:-//UTC Ligist//Mannschaftsspiel//DE
CALSCALE:GREGORIAN
BEGIN:VEVENT
UID:sp_69c900c206db7@utc-ligist.at
DTSTAMP:20260423T122518Z
DTSTART:20260524T090000
DTEND:20260524T130000
SUMMARY:🎾 damen-1-klasse: UTC-Ligist 1 vs. TC Söding 1
LOCATION:Tennisanlage UTC Ligist\, 8563 Ligist
DESCRIPTION:Mannschaft: damen-1-klasse\nTyp: Heimspiel\n\nAktuelle Zusagen:\n🟢 Barbara Wundrak\n🟡 Anika Ruprechter\n
END:VEVENT
END:VCALENDAR
