BEGIN:VCALENDAR
VERSION:2.0
PRODID:-//UTC Ligist//Mannschaftsspiel//DE
CALSCALE:GREGORIAN
BEGIN:VEVENT
UID:sp_69c900c206db4@utc-ligist.at
DTSTAMP:20260423T122739Z
DTSTART:20260509T130000
DTEND:20260509T170000
SUMMARY:🎾 damen-1-klasse: Grazer Tennisclub 2 vs. UTC-Ligist 1
LOCATION:Gastgeber
DESCRIPTION:Mannschaft: damen-1-klasse\nTyp: Auswärtsspiel\n\nAktuelle Zusagen:\n🟢 Barbara Wundrak\n🟡 Anika Ruprechter\n🟠 Petra Schröttner\n
END:VEVENT
END:VCALENDAR
